BEGIN:VCALENDAR
VERSION:2.0
PRODID:-//Fischereiverein Pilsensee-Wörthsee e.V.//NONSGML Events//EN
CALSCALE:GREGORIAN
X-WR-CALNAME:Fischereiverein Pilsensee-Wörthsee e.V. - Events
X-ORIGINAL-URL:https://www.fischereiverein-pw.de/termine/terminkalender/
X-WR-CALDESC:Fischereiverein Pilsensee-Wörthsee e.V. - Events
BEGIN:VEVENT
UID:20260114T1849Z-1768416588.7029-EO-1860-1@89.22.105.5
STATUS:CONFIRMED
DTSTAMP:20260420T104415Z
CREATED:20260114T183753Z
LAST-MODIFIED:20260114T184645Z
DTSTART;TZID=Europe/Berlin:20260110T100000
DTEND;TZID=Europe/Berlin:20260110T150000
SUMMARY: Hegene binden mit Stefan Fischer am Vereinsgelände Pilsensee
X-ALT-DESC;FMTTYPE=text/html: 
CATEGORIES:Jugend
ORGANIZER;CN="Richard Sinkovic":MAILTO:richard.sinkovic@fvpw.de
URL;VALUE=URI:https://www.fischereiverein-pw.de/termine/termin/hegene-binde
 n-mit-stefan-fischer-am-vereinsgelaende-pilsensee/
END:VEVENT
BEGIN:VEVENT
UID:20260114T1859Z-1768417166.8194-EO-1864-1@89.22.105.5
STATUS:CONFIRMED
DTSTAMP:20260420T104415Z
CREATED:20260114T185347Z
LAST-MODIFIED:20260114T185407Z
DTSTART;TZID=Europe/Berlin:20260228T100000
DTEND;TZID=Europe/Berlin:20260228T150000
SUMMARY: Jugendtag Theorie am Vereinsgrundstück Pilsensee
X-ALT-DESC;FMTTYPE=text/html: 
CATEGORIES:Jugend
ORGANIZER;CN="Richard Sinkovic":MAILTO:richard.sinkovic@fvpw.de
URL;VALUE=URI:https://www.fischereiverein-pw.de/termine/termin/jugendtag-th
 eorie/
END:VEVENT
BEGIN:VEVENT
UID:20260114T1859Z-1768417166.826-EO-1865-1@89.22.105.5
STATUS:CONFIRMED
DTSTAMP:20260420T104415Z
CREATED:20260114T185541Z
LAST-MODIFIED:20260114T185541Z
DTSTART;TZID=Europe/Berlin:20260321T100000
DTEND;TZID=Europe/Berlin:20260321T150000
SUMMARY: Jugendtag Widdersberger Weiher
X-ALT-DESC;FMTTYPE=text/html: 
CATEGORIES:Jugend
ORGANIZER;CN="Richard Sinkovic":MAILTO:richard.sinkovic@fvpw.de
URL;VALUE=URI:https://www.fischereiverein-pw.de/termine/termin/jugendtag-wi
 ddersberger-weiher/
END:VEVENT
BEGIN:VEVENT
UID:20260114T1859Z-1768417166.8304-EO-1866-1@89.22.105.5
STATUS:CONFIRMED
DTSTAMP:20260420T104415Z
CREATED:20260114T185636Z
LAST-MODIFIED:20260114T185636Z
DTSTART;TZID=Europe/Berlin:20260418T100000
DTEND;TZID=Europe/Berlin:20260418T150000
SUMMARY: Jugendtag Widdersberger Weiher
X-ALT-DESC;FMTTYPE=text/html: 
CATEGORIES:Jugend
ORGANIZER;CN="Richard Sinkovic":MAILTO:richard.sinkovic@fvpw.de
URL;VALUE=URI:https://www.fischereiverein-pw.de/termine/termin/jugendtag-wi
 ddersberger-weiher-2/
END:VEVENT
BEGIN:VEVENT
UID:20260114T1859Z-1768417166.8349-EO-1867-1@89.22.105.5
STATUS:CONFIRMED
DTSTAMP:20260420T104415Z
CREATED:20260114T185726Z
LAST-MODIFIED:20260114T185726Z
DTSTART;TZID=Europe/Berlin:20260425T100000
DTEND;TZID=Europe/Berlin:20260425T150000
SUMMARY: Special – Termin
X-ALT-DESC;FMTTYPE=text/html: 
CATEGORIES:Jugend
ORGANIZER;CN="Richard Sinkovic":MAILTO:richard.sinkovic@fvpw.de
URL;VALUE=URI:https://www.fischereiverein-pw.de/termine/termin/special-term
 in/
END:VEVENT
BEGIN:VEVENT
UID:20260114T1859Z-1768417166.8393-EO-1868-1@89.22.105.5
STATUS:CONFIRMED
DTSTAMP:20260420T104415Z
CREATED:20260114T185846Z
LAST-MODIFIED:20260114T185846Z
DTSTART;TZID=Europe/Berlin:20260509T080000
DTEND;TZID=Europe/Berlin:20260509T130000
SUMMARY: Jugendtag Renken fischen Wörthsee
X-ALT-DESC;FMTTYPE=text/html: 
CATEGORIES:Jugend
ORGANIZER;CN="Richard Sinkovic":MAILTO:richard.sinkovic@fvpw.de
URL;VALUE=URI:https://www.fischereiverein-pw.de/termine/termin/jugendtag-re
 nken-fischen-woerthsee/
END:VEVENT
BEGIN:VEVENT
UID:20260114T1859Z-1768417194.2564-EO-1869-1@89.22.105.5
STATUS:CONFIRMED
DTSTAMP:20260420T104415Z
CREATED:20260114T185944Z
LAST-MODIFIED:20260114T185944Z
DTSTART;TZID=Europe/Berlin:20260516T080000
DTEND;TZID=Europe/Berlin:20260516T150000
SUMMARY: Jugend – Königsfischen
X-ALT-DESC;FMTTYPE=text/html: 
CATEGORIES:Jugend
ORGANIZER;CN="Richard Sinkovic":MAILTO:richard.sinkovic@fvpw.de
URL;VALUE=URI:https://www.fischereiverein-pw.de/termine/termin/jugend-koeni
 gsfischen/
END:VEVENT
BEGIN:VEVENT
UID:20260114T1905Z-1768417503.6985-EO-1870-1@89.22.105.5
STATUS:CONFIRMED
DTSTAMP:20260420T104415Z
CREATED:20260114T190059Z
LAST-MODIFIED:20260114T190059Z
DTSTART;TZID=Europe/Berlin:20260613T080000
DTEND;TZID=Europe/Berlin:20260613T130000
SUMMARY: Jugendtag Pilsensee / Widdersberger Weiher
X-ALT-DESC;FMTTYPE=text/html: 
CATEGORIES:Jugend
ORGANIZER;CN="Richard Sinkovic":MAILTO:richard.sinkovic@fvpw.de
URL;VALUE=URI:https://www.fischereiverein-pw.de/termine/termin/jugendtag-pi
 lsensee-widdersberger-weiher/
END:VEVENT
BEGIN:VEVENT
UID:20260114T1905Z-1768417503.7199-EO-1871-1@89.22.105.5
STATUS:CONFIRMED
DTSTAMP:20260420T104415Z
CREATED:20260114T190206Z
LAST-MODIFIED:20260114T192353Z
DTSTART;TZID=Europe/Berlin:20260710T150000
DTEND;TZID=Europe/Berlin:20260712T130000
SUMMARY: Jugendzeltlager
X-ALT-DESC;FMTTYPE=text/html: 
CATEGORIES:Jugend,Steg belegt
ORGANIZER;CN="Richard Sinkovic":MAILTO:richard.sinkovic@fvpw.de
URL;VALUE=URI:https://www.fischereiverein-pw.de/termine/termin/jugendzeltla
 ger/
END:VEVENT
BEGIN:VEVENT
UID:20260114T1905Z-1768417503.7332-EO-1872-1@89.22.105.5
STATUS:CONFIRMED
DTSTAMP:20260420T104415Z
CREATED:20260114T190258Z
LAST-MODIFIED:20260114T190258Z
DTSTART;TZID=Europe/Berlin:20260829T150000
DTEND;TZID=Europe/Berlin:20260829T220000
SUMMARY: Jugendtag Pilsensee / Widdersberger Weiher
X-ALT-DESC;FMTTYPE=text/html: 
CATEGORIES:Jugend
ORGANIZER;CN="Richard Sinkovic":MAILTO:richard.sinkovic@fvpw.de
URL;VALUE=URI:https://www.fischereiverein-pw.de/termine/termin/jugendtag-pi
 lsensee-widdersberger-weiher-2/
END:VEVENT
BEGIN:VEVENT
UID:20260114T1905Z-1768417503.7472-EO-1873-1@89.22.105.5
STATUS:CONFIRMED
DTSTAMP:20260420T104415Z
CREATED:20260114T190423Z
LAST-MODIFIED:20260114T190423Z
DTSTART;TZID=Europe/Berlin:20260919T100000
DTEND;TZID=Europe/Berlin:20260919T150000
SUMMARY: Jugendtag Pilsensee / Widdersberger Weiher
X-ALT-DESC;FMTTYPE=text/html: 
CATEGORIES:Jugend
ORGANIZER;CN="Richard Sinkovic":MAILTO:richard.sinkovic@fvpw.de
URL;VALUE=URI:https://www.fischereiverein-pw.de/termine/termin/jugendtag-pi
 lsensee-widdersberger-weiher-3/
END:VEVENT
BEGIN:VEVENT
UID:20260114T1909Z-1768417767.7327-EO-1874-1@89.22.105.5
STATUS:CONFIRMED
DTSTAMP:20260420T104415Z
CREATED:20260114T190505Z
LAST-MODIFIED:20260114T190505Z
DTSTART;TZID=Europe/Berlin:20261017T100000
DTEND;TZID=Europe/Berlin:20261017T150000
SUMMARY: Jugendtag Pilsensee / Widdersberger Weiher
X-ALT-DESC;FMTTYPE=text/html: 
CATEGORIES:Jugend
ORGANIZER;CN="Richard Sinkovic":MAILTO:richard.sinkovic@fvpw.de
URL;VALUE=URI:https://www.fischereiverein-pw.de/termine/termin/jugendtag-pi
 lsensee-widdersberger-weiher-4/
END:VEVENT
BEGIN:VEVENT
UID:20260114T1909Z-1768417767.7396-EO-1875-1@89.22.105.5
STATUS:CONFIRMED
DTSTAMP:20260420T104415Z
CREATED:20260114T190552Z
LAST-MODIFIED:20260114T190552Z
DTSTART;TZID=Europe/Berlin:20261114T100000
DTEND;TZID=Europe/Berlin:20261114T150000
SUMMARY: Jugendtag Widdersberger Weiher
X-ALT-DESC;FMTTYPE=text/html: 
CATEGORIES:Jugend
ORGANIZER;CN="Richard Sinkovic":MAILTO:richard.sinkovic@fvpw.de
URL;VALUE=URI:https://www.fischereiverein-pw.de/termine/termin/jugendtag-wi
 ddersberger-weiher-3/
END:VEVENT
BEGIN:VEVENT
UID:20260114T1909Z-1768417767.7432-EO-1876-1@89.22.105.5
STATUS:CONFIRMED
DTSTAMP:20260420T104415Z
CREATED:20260114T190630Z
LAST-MODIFIED:20260114T190630Z
DTSTART;TZID=Europe/Berlin:20261212T130000
DTEND;TZID=Europe/Berlin:20261212T200000
SUMMARY: Jugend Weihnachtsfeier
X-ALT-DESC;FMTTYPE=text/html: 
CATEGORIES:Jugend
ORGANIZER;CN="Richard Sinkovic":MAILTO:richard.sinkovic@fvpw.de
URL;VALUE=URI:https://www.fischereiverein-pw.de/termine/termin/jugend-weihn
 achtsfeier/
END:VEVENT
BEGIN:VTIMEZONE
TZID:Europe/Berlin
BEGIN:STANDARD
TZOFFSETFROM:+0200
TZOFFSETTO:+0100
DTSTART:20251026T010000
TZNAME:CET
END:STANDARD
BEGIN:DAYLIGHT
TZOFFSETFROM:+0100
TZOFFSETTO:+0200
DTSTART:20260329T010000
TZNAME:CEST
END:DAYLIGHT
BEGIN:STANDARD
TZOFFSETFROM:+0200
TZOFFSETTO:+0100
DTSTART:20261025T010000
TZNAME:CET
END:STANDARD
END:VTIMEZONE
END:VCALENDAR
